BEGIN:VCALENDAR
VERSION:2.0
PRODID:-//Deindustrialization - ECPv6.15.17.1//NONSGML v1.0//EN
CALSCALE:GREGORIAN
METHOD:PUBLISH
X-ORIGINAL-URL:https://deindustrialization.org
X-WR-CALDESC:Events for Deindustrialization
REFRESH-INTERVAL;VALUE=DURATION:PT1H
X-Robots-Tag:noindex
X-PUBLISHED-TTL:PT1H
BEGIN:VTIMEZONE
TZID:UTC
BEGIN:STANDARD
TZOFFSETFROM:+0000
TZOFFSETTO:+0000
TZNAME:UTC
DTSTART:20200101T000000
END:STANDARD
END:VTIMEZONE
BEGIN:VEVENT
DTSTART;TZID=UTC:20211015T100000
DTEND;TZID=UTC:20211015T120000
DTSTAMP:20260423T172217
CREATED:20210625T193919Z
LAST-MODIFIED:20220322T204829Z
UID:1695-1634292000-1634299200@deindustrialization.org
SUMMARY:TOWARDS A GLOBAL DEINDUSTRIALIZATION STUDIES
DESCRIPTION:DePOT’s Fall 2021 Roundtable Series: Rethinking Deindustrialization Studies  \nThis roundtable series invites us to revisit our understanding of the field of deindustrialization studies. Two sessions expand the geographic imaginary from the old industrial heartlands of Western Europe and North America. Another asks us to make gender analysis more central.  The final session brings curatorial and archival knowledge into the conversation. \n \nFriday October 15 10:00am-12:00pm (EST)  \nCo-organized with the Global Development Institute and Manchester Urban Institute initiative. \nRegister here. This event will take place through Zoom. The event will be taking place in English\, with presentations in French translated to English via closed captions. If you have any additional access needs please contact the organizer. \n  \n \nAdditionally\, here is the video presentation of Max Rousseau and Tarik Harroud. An English and French transcription of their presentation can be viewed here. \n \n  \nChairperson: Stefan Berger\, Ruhr University – Bochum  \n\nSeth Schindler\, University of Manchester\, will speak about Dar es Salaam\, Tanzania. \nMax Rousseau\nTarik Harroud\nNeha Sami and Shriya Anand\, Indian Institute for Human Settlements\, will speak about Bangalore\, India.  \nXuefei Ren\, Michigan State University\, will speak about Harbin\, China.  \nMagdalena Novoa Echaurren\, University of Illinois\, will speak about Chile. \nOwen Crankshaw\, University of Bristol\, will speak about Johannesburg\, South Africa.  \nAnna Calori\, University of Jena\, will speak about the former Yugoslavia. \nAzat Gündoğan from Florida State University will speak about Istanbul\, Turkey. \n\n*** \nCover Image: Demonstration by Réhon steelworkers\, France 1984. Photo: Philippe Piacentini.
URL:https://deindustrialization.org/event/towards-a-global-deindustrialization-studies/
CATEGORIES:Rethinking Deindustrialization Studies
ATTACH;FMTTYPE=image/jpeg:https://deindustrialization.org/wp-content/uploads/2021/06/Manifestationdesidérurgistes_RéhonFrance_1984©PhilippePiacentini-scaled.jpeg
END:VEVENT
END:VCALENDAR